BEGIN:VCALENDAR
VERSION:2.0
PRODID:-//Teamster Safety and Health - ECPv6.15.20//NONSGML v1.0//EN
CALSCALE:GREGORIAN
METHOD:PUBLISH
X-WR-CALNAME:Teamster Safety and Health
X-ORIGINAL-URL:https://teamstersafety.org
X-WR-CALDESC:Events for Teamster Safety and Health
REFRESH-INTERVAL;VALUE=DURATION:PT1H
X-Robots-Tag:noindex
X-PUBLISHED-TTL:PT1H
BEGIN:VTIMEZONE
TZID:UTC
BEGIN:STANDARD
TZOFFSETFROM:+0000
TZOFFSETTO:+0000
TZNAME:UTC
DTSTART:20180101T000000
END:STANDARD
END:VTIMEZONE
BEGIN:VEVENT
DTSTART;TZID=UTC:20190615T080000
DTEND;TZID=UTC:20190615T170000
DTSTAMP:20260424T184530
CREATED:20190612T202833Z
LAST-MODIFIED:20190612T203001Z
UID:16457-1560585600-1560618000@teamstersafety.org
SUMMARY:8-Hr HAZWOPER Refresher
DESCRIPTION:This is the annual Refresher Course that OSHA requires for hazardous waste workers. The course reviews material from the 40-Hour Basic Course\, discusses lessons learned from accidents\, and presents new procedures and regulatory changes. Upon successful completion of this course\, each worker receives an “8-Hour Refresher Card” that certifies the worker to continue hazardous waste work for another 12 months. \nClass Date: 6/15/2109\nTraining Center: LU 509\nCity/State: Aiken\,GA
URL:https://teamstersafety.org/event/8-hr-hazwoper-refresher/
LOCATION:LU 509\, Aiken\, GA\, United States
CATEGORIES:Training Class
END:VEVENT
END:VCALENDAR