BEGIN:VCALENDAR
VERSION:2.0
PRODID:-//Teamster Safety and Health - ECPv6.15.20//NONSGML v1.0//EN
CALSCALE:GREGORIAN
METHOD:PUBLISH
X-WR-CALNAME:Teamster Safety and Health
X-ORIGINAL-URL:https://teamstersafety.org
X-WR-CALDESC:Events for Teamster Safety and Health
REFRESH-INTERVAL;VALUE=DURATION:PT1H
X-Robots-Tag:noindex
X-PUBLISHED-TTL:PT1H
BEGIN:VTIMEZONE
TZID:UTC
BEGIN:STANDARD
TZOFFSETFROM:+0000
TZOFFSETTO:+0000
TZNAME:UTC
DTSTART:20180101T000000
END:STANDARD
END:VTIMEZONE
BEGIN:VEVENT
DTSTART;VALUE=DATE:20260504
DTEND;VALUE=DATE:20260509
DTSTAMP:20260420T173028
CREATED:20200110T170029Z
LAST-MODIFIED:20260416T202247Z
UID:16884-1777852800-1778284799@teamstersafety.org
SUMMARY:National Safety Stand-Down To Prevent Falls in Construction
DESCRIPTION:Fatalities caused by falls from elevation continue to be a leading cause of death for construction employees\, accounting for 389 of the 1\,034 construction fatalities recorded in 2024 (BLS data). Those deaths were preventable. The National Safety Stand-Down raises fall hazard awareness across the country in an effort to stop fall fatalities and injuries. \nMore information
URL:https://teamstersafety.org/event/national-safety-stand-down-to-prevent-falls-in-construction/
CATEGORIES:Health and Safety Event
END:VEVENT
BEGIN:VEVENT
DTSTART;VALUE=DATE:20190812
DTEND;VALUE=DATE:20190819
DTSTAMP:20260420T173028
CREATED:20190702T195739Z
LAST-MODIFIED:20190702T195739Z
UID:16517-1565568000-1566172799@teamstersafety.org
SUMMARY:Safe + Sound Week
DESCRIPTION:
URL:https://teamstersafety.org/event/safe-sound-week/
CATEGORIES:Health and Safety Event
END:VEVENT
BEGIN:VEVENT
DTSTART;VALUE=DATE:20190731
DTEND;VALUE=DATE:20190801
DTSTAMP:20260420T173028
CREATED:20190702T195524Z
LAST-MODIFIED:20190702T195524Z
UID:16515-1564531200-1564617599@teamstersafety.org
SUMMARY:National Heatstroke Prevention Day
DESCRIPTION:National Highway Traffic Safety Administration
URL:https://teamstersafety.org/event/national-heatstroke-prevention-day/
END:VEVENT
BEGIN:VEVENT
DTSTART;TZID=UTC:20190629T080000
DTEND;TZID=UTC:20190629T170000
DTSTAMP:20260420T173028
CREATED:20190612T203510Z
LAST-MODIFIED:20190612T203510Z
UID:16461-1561795200-1561827600@teamstersafety.org
SUMMARY:8-Hr Forklift Safety Course (Classroom + Practical)
DESCRIPTION:
URL:https://teamstersafety.org/event/8-hr-forklift-safety-course-classroom-practical/
LOCATION:Teamsters Local Union 282\, 2500 Marcus Ave\, Lake Success\, NY\, 11042\, United States
CATEGORIES:Training Class
END:VEVENT
BEGIN:VEVENT
DTSTART;VALUE=DATE:20190627
DTEND;VALUE=DATE:20190628
DTSTAMP:20260420T173029
CREATED:20190612T204143Z
LAST-MODIFIED:20190612T204143Z
UID:16466-1561593600-1561679999@teamstersafety.org
SUMMARY:PTSD Awareness Day (June 27)
DESCRIPTION:What is post-traumatic stress disorder?\nPost-traumatic stress disorder (PTSD) is a debilitating trauma- and stressor-related disorder that can occur after experiencing or witnessing a traumatic event. The event may involve a real or perceived threat of injury or death. This can include a natural disaster\, combat\, an assault\, physical or sexual abuse\, or other trauma.
URL:https://teamstersafety.org/event/ptsd-awareness-day-june-27/
CATEGORIES:Health Awareness
END:VEVENT
BEGIN:VEVENT
DTSTART;TZID=UTC:20190615T080000
DTEND;TZID=UTC:20190615T170000
DTSTAMP:20260420T173029
CREATED:20190612T202833Z
LAST-MODIFIED:20190612T203001Z
UID:16457-1560585600-1560618000@teamstersafety.org
SUMMARY:8-Hr HAZWOPER Refresher
DESCRIPTION:This is the annual Refresher Course that OSHA requires for hazardous waste workers. The course reviews material from the 40-Hour Basic Course\, discusses lessons learned from accidents\, and presents new procedures and regulatory changes. Upon successful completion of this course\, each worker receives an “8-Hour Refresher Card” that certifies the worker to continue hazardous waste work for another 12 months. \nClass Date: 6/15/2109\nTraining Center: LU 509\nCity/State: Aiken\,GA
URL:https://teamstersafety.org/event/8-hr-hazwoper-refresher/
LOCATION:LU 509\, Aiken\, GA\, United States
CATEGORIES:Training Class
END:VEVENT
BEGIN:VEVENT
DTSTART;TZID=UTC:20190501T080000
DTEND;TZID=UTC:20190531T170000
DTSTAMP:20260420T173029
CREATED:20190522T204639Z
LAST-MODIFIED:20190522T204640Z
UID:16125-1556697600-1559322000@teamstersafety.org
SUMMARY:Skin Cancer Prevention Month
DESCRIPTION:Skin cancer is the most common type of cancer in the United States. Ultraviolet (UV) radiation from the sun is the main cause of skin cancer. UV radiation can also come from tanning booths or sunlamps. The most dangerous kind of skin cancer is called melanoma. \nThe good news? Skin cancer can almost always be cured when it’s found and treated early – and that includes melanoma. We can work together to prevent skin cancer or find it early\, when it’s easier to treat.
URL:https://teamstersafety.org/event/skin-cancer-prevention-month/
END:VEVENT
END:VCALENDAR